BEGIN:VCALENDAR
VERSION:2.0
PRODID:-//Capitalismo Consciente Brasil - ECPv5.9.0//NONSGML v1.0//EN
CALSCALE:GREGORIAN
METHOD:PUBLISH
X-WR-CALNAME:Capitalismo Consciente Brasil
X-ORIGINAL-URL:https://ccbrasil.cc
X-WR-CALDESC:Eventos para Capitalismo Consciente Brasil
BEGIN:VTIMEZONE
TZID:America/Sao_Paulo
BEGIN:STANDARD
TZOFFSETFROM:-0300
TZOFFSETTO:-0300
TZNAME:-03
DTSTART:20260101T000000
END:STANDARD
END:VTIMEZONE
BEGIN:VEVENT
DTSTART;TZID=America/Sao_Paulo:20260611T083000
DTEND;TZID=America/Sao_Paulo:20260611T110000
DTSTAMP:20260419T183432
CREATED:20260303T180220Z
LAST-MODIFIED:20260402T165953Z
UID:22699-1781166600-1781175600@ccbrasil.cc
SUMMARY:Evento semestral da rede de A.Gentes
DESCRIPTION:Mais informações em breve!
URL:https://ccbrasil.cc/evento/evento-agentes-junho/
ATTACH;FMTTYPE=image/jpeg:https://ccbrasil.cc/wp-content/uploads/2026/02/Banner-mais-informacoes.jpg
END:VEVENT
END:VCALENDAR